BEGIN:VCALENDAR
VERSION:2.0
PRODID:-//www.ketchikanarts.org//NONSGML kigkonsult.se iCalcreator 2.30.10/
 /
CALSCALE:GREGORIAN
METHOD:PUBLISH
UID:327f281b-49c7-44be-83a4-bfa6946f3151
X-WR-CALDESC:Come early and join the Kayhi Drama Kings at 5pm in the Common
 s for Opening Night festivities! The performance begins at 7pm!
X-WR-RELCALID:ce08c4285e55794aeb92c4481ea57f0a
X-WR-TIMEZONE:America/Anchorage
BEGIN:VTIMEZONE
TZID:America/Anchorage
BEGIN:STANDARD
TZNAME:AKST
DTSTART:20231105T020000
TZOFFSETFROM:-0800
TZOFFSETTO:-0900
RDATE:20241103T020000
END:STANDARD
BEGIN:DAYLIGHT
TZNAME:AKDT
DTSTART:20230312T020000
TZOFFSETFROM:-0900
TZOFFSETTO:-0800
RDATE:20240310T020000
RDATE:20250309T020000
END:DAYLIGHT
END:VTIMEZONE
BEGIN:VEVENT
UID:06b77b4e-fc35-4f47-adf5-cc8f167b060e
DTSTAMP:20260425T141045Z
DESCRIPTION:Come early and join the Kayhi Drama Kings at 5pm in the Commons
  for Opening Night festivities! The performance begins at 7pm!
DTSTART;TZID=America/Anchorage:20231124T190000
DTEND;TZID=America/Anchorage:20231124T210000
LOCATION:Kayhi Auditorium
SUMMARY:Disney's Frozen - presented by KAYHI Drama Kings!
END:VEVENT
END:VCALENDAR
