BEGIN:VCALENDAR
VERSION:2.0
PRODID:-//www.ketchikanarts.org//NONSGML kigkonsult.se iCalcreator 2.30.10/
 /
CALSCALE:GREGORIAN
METHOD:PUBLISH
UID:d30c9cbc-eece-4c19-8865-8aaacdfc80b6
X-WR-CALDESC:Closed for Thanksgiving!
X-WR-RELCALID:1dab3d926084aa0f1b566929803f32e8
X-WR-TIMEZONE:America/Anchorage
BEGIN:VTIMEZONE
TZID:America/Anchorage
BEGIN:STANDARD
TZNAME:AKST
DTSTART:20231105T020000
TZOFFSETFROM:-0800
TZOFFSETTO:-0900
RDATE:20241103T020000
END:STANDARD
BEGIN:DAYLIGHT
TZNAME:AKDT
DTSTART:20230312T020000
TZOFFSETFROM:-0900
TZOFFSETTO:-0800
RDATE:20240310T020000
RDATE:20250309T020000
END:DAYLIGHT
END:VTIMEZONE
BEGIN:VEVENT
UID:0eeca6e7-538e-470e-b110-29cc134eaf19
DTSTAMP:20260425T140700Z
DESCRIPTION:Closed for Thanksgiving!
DTSTART;TZID=America/Anchorage:20231123T000000
DTEND;TZID=America/Anchorage:20231124T000000
LOCATION:Main Street Gallery
SUMMARY:Main Street Gallery Closed
END:VEVENT
END:VCALENDAR
