BEGIN:VCALENDAR
VERSION:2.0
PRODID:-//www.ketchikanarts.org//NONSGML kigkonsult.se iCalcreator 2.30.10/
 /
CALSCALE:GREGORIAN
METHOD:PUBLISH
UID:5f4492b8-c6ce-41ce-9a9e-3486a7837daa
X-WR-CALDESC:Ketchikan Running Club presents the Feast Day Fun Run! Click t
 he website link below for exact race times and more information!
X-WR-RELCALID:fa4ece0fc4cab3dba88532ad44db7a45
X-WR-TIMEZONE:America/Anchorage
BEGIN:VTIMEZONE
TZID:America/Anchorage
BEGIN:STANDARD
TZNAME:AKST
DTSTART:20231105T020000
TZOFFSETFROM:-0800
TZOFFSETTO:-0900
RDATE:20241103T020000
END:STANDARD
BEGIN:DAYLIGHT
TZNAME:AKDT
DTSTART:20230312T020000
TZOFFSETFROM:-0900
TZOFFSETTO:-0800
RDATE:20240310T020000
RDATE:20250309T020000
END:DAYLIGHT
END:VTIMEZONE
BEGIN:VEVENT
UID:934d1c10-75a8-4fc5-9eef-a27760dc5967
DTSTAMP:20260425T140922Z
DESCRIPTION:Ketchikan Running Club presents the Feast Day Fun Run! Click th
 e website link below for exact race times and more information!
DTSTART;TZID=America/Anchorage:20231123T120000
DTEND;TZID=America/Anchorage:20231123T130000
LOCATION:
SUMMARY:Feast Day Fun Run - Ketchikan Running Club
END:VEVENT
END:VCALENDAR
