BEGIN:VCALENDAR
VERSION:2.0
PRODID:-//www.ketchikanarts.org//NONSGML kigkonsult.se iCalcreator 2.30.10/
 /
CALSCALE:GREGORIAN
METHOD:PUBLISH
UID:a1430921-7dcb-4759-b6f7-8401b8c26df4
X-WR-CALDESC:The Grand Entrance begins at 5:30pm\, line up at 5pm to partic
 ipate!
X-WR-RELCALID:fc98899f5a8c45b34dd7020e502164ce
X-WR-TIMEZONE:America/Anchorage
BEGIN:VTIMEZONE
TZID:America/Anchorage
BEGIN:STANDARD
TZNAME:AKST
DTSTART:20231105T020000
TZOFFSETFROM:-0800
TZOFFSETTO:-0900
RDATE:20241103T020000
END:STANDARD
BEGIN:DAYLIGHT
TZNAME:AKDT
DTSTART:20230312T020000
TZOFFSETFROM:-0900
TZOFFSETTO:-0800
RDATE:20240310T020000
RDATE:20250309T020000
END:DAYLIGHT
END:VTIMEZONE
BEGIN:VEVENT
UID:ca3dfaf2-17a3-4735-8a62-10fe1b2bb73e
DTSTAMP:20260425T140608Z
DESCRIPTION:The Grand Entrance begins at 5:30pm\, line up at 5pm to partici
 pate!
DTSTART;TZID=America/Anchorage:20231122T173000
DTEND;TZID=America/Anchorage:20231122T200000
LOCATION:Saxman Community Hall - upstairs!
SUMMARY:Native American Hertiage Day Celebration!
END:VEVENT
END:VCALENDAR
