BEGIN:VCALENDAR
VERSION:2.0
PRODID:-//www.ketchikanarts.org//NONSGML kigkonsult.se iCalcreator 2.30.10/
 /
CALSCALE:GREGORIAN
METHOD:PUBLISH
UID:9808ae97-d5dd-471d-b320-77094bda6173
X-WR-CALDESC:
X-WR-RELCALID:2e9d3ee06b267b519904ad069c0a40cf
X-WR-TIMEZONE:America/Anchorage
BEGIN:VTIMEZONE
TZID:America/Anchorage
BEGIN:STANDARD
TZNAME:AKST
DTSTART:20231105T020000
TZOFFSETFROM:-0800
TZOFFSETTO:-0900
RDATE:20241103T020000
END:STANDARD
BEGIN:DAYLIGHT
TZNAME:AKDT
DTSTART:20230312T020000
TZOFFSETFROM:-0900
TZOFFSETTO:-0800
RDATE:20240310T020000
RDATE:20250309T020000
END:DAYLIGHT
END:VTIMEZONE
BEGIN:VEVENT
UID:c9ab24b9-3bbf-4d3d-9b6c-2ad485bacef2
DTSTAMP:20260425T140856Z
DESCRIPTION:
DTSTART;TZID=America/Anchorage:20231120T163000
DTEND;TZID=America/Anchorage:20231120T170000
LOCATION:
SUMMARY:Call for Youth In Art Exhibit
END:VEVENT
END:VCALENDAR
