BEGIN:VCALENDAR
VERSION:2.0
PRODID:-//www.ketchikanarts.org//NONSGML kigkonsult.se iCalcreator 2.30.10/
 /
CALSCALE:GREGORIAN
METHOD:PUBLISH
UID:2a4229aa-a42c-4adf-9b47-99b67088656f
X-WR-CALDESC:
X-WR-RELCALID:d2099faf62066e80512cdeed5ccac0f5
X-WR-TIMEZONE:America/Anchorage
BEGIN:VTIMEZONE
TZID:America/Anchorage
BEGIN:STANDARD
TZNAME:AKST
DTSTART:20231105T020000
TZOFFSETFROM:-0800
TZOFFSETTO:-0900
RDATE:20241103T020000
END:STANDARD
BEGIN:DAYLIGHT
TZNAME:AKDT
DTSTART:20230312T020000
TZOFFSETFROM:-0900
TZOFFSETTO:-0800
RDATE:20240310T020000
RDATE:20250309T020000
END:DAYLIGHT
END:VTIMEZONE
BEGIN:VEVENT
UID:371403bf-ebc6-4c65-b3b9-43daaebd215d
DTSTAMP:20260425T140446Z
DESCRIPTION:
DTSTART;TZID=America/Anchorage:20231120T173000
DTEND;TZID=America/Anchorage:20231120T193000
LOCATION:Main Street Gallery
SUMMARY:BOOMbal Dancehall
END:VEVENT
END:VCALENDAR
