BEGIN:VCALENDAR
VERSION:2.0
PRODID:-//www.ketchikanarts.org//NONSGML kigkonsult.se iCalcreator 2.30.10/
 /
CALSCALE:GREGORIAN
METHOD:PUBLISH
UID:bea2ce63-bae1-4351-a6c6-bfde97e35abc
X-WR-CALDESC:
X-WR-RELCALID:2e579c4320eb2180734c878773ba90eb
X-WR-TIMEZONE:America/Anchorage
BEGIN:VTIMEZONE
TZID:America/Anchorage
BEGIN:STANDARD
TZNAME:AKST
DTSTART:20231105T020000
TZOFFSETFROM:-0800
TZOFFSETTO:-0900
RDATE:20241103T020000
END:STANDARD
BEGIN:DAYLIGHT
TZNAME:AKDT
DTSTART:20230312T020000
TZOFFSETFROM:-0900
TZOFFSETTO:-0800
RDATE:20240310T020000
RDATE:20250309T020000
END:DAYLIGHT
END:VTIMEZONE
BEGIN:VEVENT
UID:fa6ad342-8bf5-4e9e-ac1e-3f7dcf227e48
DTSTAMP:20260425T141213Z
DESCRIPTION:
DTSTART;TZID=America/Anchorage:20231120T190000
DTEND;TZID=America/Anchorage:20231120T203000
LOCATION:
SUMMARY:Ketchikan Community Concert Band Rehearses
END:VEVENT
END:VCALENDAR
