BEGIN:VCALENDAR
VERSION:2.0
PRODID:-//www.ketchikanarts.org//NONSGML kigkonsult.se iCalcreator 2.30.10/
 /
CALSCALE:GREGORIAN
METHOD:PUBLISH
UID:4a9786dc-1cbd-4e7c-8c67-2a6f01950dcd
X-WR-CALDESC:
X-WR-RELCALID:f8d6275ed873201924b405fb9dcc55f2
X-WR-TIMEZONE:America/Anchorage
BEGIN:VTIMEZONE
TZID:America/Anchorage
BEGIN:STANDARD
TZNAME:AKST
DTSTART:20231105T020000
TZOFFSETFROM:-0800
TZOFFSETTO:-0900
RDATE:20241103T020000
END:STANDARD
BEGIN:DAYLIGHT
TZNAME:AKDT
DTSTART:20230312T020000
TZOFFSETFROM:-0900
TZOFFSETTO:-0800
RDATE:20240310T020000
RDATE:20250309T020000
END:DAYLIGHT
END:VTIMEZONE
BEGIN:VEVENT
UID:47b00247-d1d2-4075-93b2-8076716a1ebe
DTSTAMP:20260425T140748Z
DESCRIPTION:
DTSTART;TZID=America/Anchorage:20231114T190000
DTEND;TZID=America/Anchorage:20231114T210000
LOCATION:Creek Street Cabaret
SUMMARY:Story SLAM - 'Good as New'
END:VEVENT
END:VCALENDAR
