BEGIN:VCALENDAR
VERSION:2.0
PRODID:-//www.ketchikanarts.org//NONSGML kigkonsult.se iCalcreator 2.30.10/
 /
CALSCALE:GREGORIAN
METHOD:PUBLISH
UID:47ff1e33-988d-4ec3-9ec9-a211e57123c6
X-WR-CALDESC:
X-WR-RELCALID:d1c8ffb0f9683d63faf6b93941127fb9
X-WR-TIMEZONE:America/Anchorage
BEGIN:VTIMEZONE
TZID:America/Anchorage
BEGIN:STANDARD
TZNAME:AKST
DTSTART:20231105T020000
TZOFFSETFROM:-0800
TZOFFSETTO:-0900
RDATE:20241103T020000
END:STANDARD
BEGIN:DAYLIGHT
TZNAME:AKDT
DTSTART:20230312T020000
TZOFFSETFROM:-0900
TZOFFSETTO:-0800
RDATE:20240310T020000
RDATE:20250309T020000
END:DAYLIGHT
END:VTIMEZONE
BEGIN:VEVENT
UID:206f3b12-8a39-4d2c-acf2-9ad5c5460cef
DTSTAMP:20260425T141040Z
DESCRIPTION:
DTSTART;TZID=America/Anchorage:20231110T193000
DTEND;TZID=America/Anchorage:20231110T213000
LOCATION:Kayhi Auditorium
SUMMARY:'We Will Rock You' - First City Players Production!
END:VEVENT
END:VCALENDAR
