BEGIN:VCALENDAR
VERSION:2.0
PRODID:-//www.ketchikanarts.org//NONSGML kigkonsult.se iCalcreator 2.30.10/
 /
CALSCALE:GREGORIAN
METHOD:PUBLISH
UID:167863ac-cfff-48f4-9ce3-4832528c64ab
X-WR-CALDESC:Music Students of Ketchikan perform in the Sam Pitcher Memoria
 l Scholarship Concert to raise funds for youth to attend summer music prog
 rams\; and they make great music!
X-WR-RELCALID:78588c246665d5001bc0f2f3e26234a6
X-WR-TIMEZONE:America/Anchorage
BEGIN:VTIMEZONE
TZID:America/Anchorage
BEGIN:STANDARD
TZNAME:AKST
DTSTART:20231105T020000
TZOFFSETFROM:-0800
TZOFFSETTO:-0900
RDATE:20241103T020000
END:STANDARD
BEGIN:DAYLIGHT
TZNAME:AKDT
DTSTART:20230312T020000
TZOFFSETFROM:-0900
TZOFFSETTO:-0800
RDATE:20240310T020000
RDATE:20250309T020000
END:DAYLIGHT
END:VTIMEZONE
BEGIN:VEVENT
UID:23420ba6-91b6-4759-b410-f9c2dc725bfe
DTSTAMP:20260425T140702Z
DESCRIPTION:Music Students of Ketchikan perform in the Sam Pitcher Memorial
  Scholarship Concert to raise funds for youth to attend summer music progr
 ams\; and they make great music!
DTSTART;TZID=America/Anchorage:20231107T190000
DTEND;TZID=America/Anchorage:20231107T210000
LOCATION:Kayhi Auditorium
SUMMARY:Sam Pitcher Memorial Scholarship Concert
END:VEVENT
END:VCALENDAR
