BEGIN:VCALENDAR
VERSION:2.0
PRODID:-//www.ketchikanarts.org//NONSGML kigkonsult.se iCalcreator 2.30.10/
 /
CALSCALE:GREGORIAN
METHOD:PUBLISH
UID:1c0f2e12-48ef-491c-9b85-4c9c227f5501
X-WR-CALDESC:A solo exhibit of poetry and photography\, sharing strength an
 d resilience inspired by Mother Earth.
X-WR-RELCALID:c0036c6063847447d0e2d983403a6af2
X-WR-TIMEZONE:America/Anchorage
BEGIN:VTIMEZONE
TZID:America/Anchorage
BEGIN:STANDARD
TZNAME:AKST
DTSTART:20221106T020000
TZOFFSETFROM:-0800
TZOFFSETTO:-0900
RDATE:20231105T020000
RDATE:20241103T020000
END:STANDARD
BEGIN:DAYLIGHT
TZNAME:AKDT
DTSTART:20230312T020000
TZOFFSETFROM:-0900
TZOFFSETTO:-0800
RDATE:20240310T020000
RDATE:20250309T020000
END:DAYLIGHT
END:VTIMEZONE
BEGIN:VEVENT
UID:d4ca3ecb-a100-4609-b090-56cc21072731
DTSTAMP:20260425T140851Z
DESCRIPTION:A solo exhibit of poetry and photography\, sharing strength and
  resilience inspired by Mother Earth.
DTSTART;TZID=America/Anchorage:20231106T170000
DTEND;TZID=America/Anchorage:20231125T180000
LOCATION:330 Main Street Gallery
SUMMARY:'Can You See Me' Elizabeth Franklin
END:VEVENT
END:VCALENDAR
