BEGIN:VCALENDAR
VERSION:2.0
PRODID:-//www.ketchikanarts.org//NONSGML kigkonsult.se iCalcreator 2.30.10/
 /
CALSCALE:GREGORIAN
METHOD:PUBLISH
UID:4d9bb92d-1e39-4b49-a18d-6e86ede307bb
X-WR-CALDESC:
X-WR-RELCALID:c65e21dc49a92611f4bed23a31707f77
X-WR-TIMEZONE:America/Anchorage
BEGIN:VTIMEZONE
TZID:America/Anchorage
BEGIN:STANDARD
TZNAME:AKST
DTSTART:20221106T020000
TZOFFSETFROM:-0800
TZOFFSETTO:-0900
RDATE:20231105T020000
RDATE:20241103T020000
END:STANDARD
BEGIN:DAYLIGHT
TZNAME:AKDT
DTSTART:20230312T020000
TZOFFSETFROM:-0900
TZOFFSETTO:-0800
RDATE:20240310T020000
RDATE:20250309T020000
END:DAYLIGHT
END:VTIMEZONE
BEGIN:VEVENT
UID:620008fe-b7b1-4873-90d4-cd9238153ca1
DTSTAMP:20260425T141041Z
DESCRIPTION:
DTSTART;TZID=America/Anchorage:20231104T193000
DTEND;TZID=America/Anchorage:20231104T213000
LOCATION:Kayhi Auditorium
SUMMARY:'We Will Rock You' - First City Players Production!
END:VEVENT
END:VCALENDAR
