BEGIN:VCALENDAR
VERSION:2.0
PRODID:-//www.ketchikanarts.org//NONSGML kigkonsult.se iCalcreator 2.30.10/
 /
CALSCALE:GREGORIAN
METHOD:PUBLISH
UID:ede3276a-3776-4988-b780-f239294b3b00
X-WR-CALDESC:
X-WR-RELCALID:36810ba8105b1ae800a55aa3b6d156fc
X-WR-TIMEZONE:America/Anchorage
BEGIN:VTIMEZONE
TZID:America/Anchorage
BEGIN:STANDARD
TZNAME:AKST
DTSTART:20221106T020000
TZOFFSETFROM:-0800
TZOFFSETTO:-0900
RDATE:20231105T020000
RDATE:20241103T020000
END:STANDARD
BEGIN:DAYLIGHT
TZNAME:AKDT
DTSTART:20230312T020000
TZOFFSETFROM:-0900
TZOFFSETTO:-0800
RDATE:20240310T020000
RDATE:20250309T020000
END:DAYLIGHT
END:VTIMEZONE
BEGIN:VEVENT
UID:ce885c64-5f59-4512-9174-6c72c0dc70df
DTSTAMP:20260425T141046Z
DESCRIPTION:
DTSTART;TZID=America/Anchorage:20231103T193000
DTEND;TZID=America/Anchorage:20231103T213000
LOCATION:Kayhi Auditorium
SUMMARY:'We Will Rock You' - First City Players Production!
END:VEVENT
END:VCALENDAR
