BEGIN:VCALENDAR
VERSION:2.0
PRODID:-//www.ketchikanarts.org//NONSGML kigkonsult.se iCalcreator 2.30.10/
 /
CALSCALE:GREGORIAN
METHOD:PUBLISH
UID:11b8c595-1cba-44d2-9f3a-6a3ad2ef1c77
X-WR-CALDESC:Musicians Varijashree Venugopal\, Luisa Lacerda and Lenna Bahu
 le\, bring us the music of india\, Brazil\, Mozambique\, and more.
X-WR-RELCALID:b5808e9c45d272535cfb6c5186a69f30
X-WR-TIMEZONE:America/Anchorage
BEGIN:VTIMEZONE
TZID:America/Anchorage
BEGIN:STANDARD
TZNAME:AKST
DTSTART:20221106T020000
TZOFFSETFROM:-0800
TZOFFSETTO:-0900
RDATE:20231105T020000
RDATE:20241103T020000
END:STANDARD
BEGIN:DAYLIGHT
TZNAME:AKDT
DTSTART:20230312T020000
TZOFFSETFROM:-0900
TZOFFSETTO:-0800
RDATE:20240310T020000
RDATE:20250309T020000
END:DAYLIGHT
END:VTIMEZONE
BEGIN:VEVENT
UID:6952a147-1142-4de3-8618-87641a20adc5
DTSTAMP:20260425T155909Z
DESCRIPTION:Musicians Varijashree Venugopal\, Luisa Lacerda and Lenna Bahul
 e\, bring us the music of india\, Brazil\, Mozambique\, and more.
DTSTART;TZID=America/Anchorage:20231030T190000
DTEND;TZID=America/Anchorage:20231030T210000
LOCATION:Saxman Tribal House
SUMMARY:Lyric & Spirit 'Torch Night'
END:VEVENT
END:VCALENDAR
