BEGIN:VCALENDAR
VERSION:2.0
PRODID:-//www.ketchikanarts.org//NONSGML kigkonsult.se iCalcreator 2.30.10/
 /
CALSCALE:GREGORIAN
METHOD:PUBLISH
UID:2d5c6089-f5da-492c-b460-7d602d5965d5
X-WR-CALDESC:
X-WR-RELCALID:16291d458881016094700b1e41975d1b
X-WR-TIMEZONE:America/Anchorage
BEGIN:VTIMEZONE
TZID:America/Anchorage
BEGIN:STANDARD
TZNAME:AKST
DTSTART:20221106T020000
TZOFFSETFROM:-0800
TZOFFSETTO:-0900
RDATE:20231105T020000
RDATE:20241103T020000
END:STANDARD
BEGIN:DAYLIGHT
TZNAME:AKDT
DTSTART:20230312T020000
TZOFFSETFROM:-0900
TZOFFSETTO:-0800
RDATE:20240310T020000
RDATE:20250309T020000
END:DAYLIGHT
END:VTIMEZONE
BEGIN:VEVENT
UID:2964c629-76fb-4e66-9324-b98a902a9b9a
DTSTAMP:20260425T160453Z
DESCRIPTION:
DTSTART;TZID=America/Anchorage:20231018T183000
DTEND;TZID=America/Anchorage:20231018T200000
LOCATION:
SUMMARY:Ketchikan Chamber Orchestra Rehearsal
END:VEVENT
END:VCALENDAR
