BEGIN:VCALENDAR
VERSION:2.0
PRODID:-//www.ketchikanarts.org//NONSGML kigkonsult.se iCalcreator 2.30.10/
 /
CALSCALE:GREGORIAN
METHOD:PUBLISH
UID:356e53b9-53ec-44c7-8581-6c0aac2249b2
X-WR-CALDESC:The wonderful Stephanie Patton hosts the show After Hours Alas
 ka every Wednesday from 9pm-11pm on KRBD. You can find out more informatio
 n here as she interview musicians on a weekly basis. \n\n
X-WR-RELCALID:b8d6f7131de4f3afecb5dd43ec333ef9
X-WR-TIMEZONE:America/Anchorage
BEGIN:VTIMEZONE
TZID:America/Anchorage
BEGIN:STANDARD
TZNAME:AKST
DTSTART:20221106T020000
TZOFFSETFROM:-0800
TZOFFSETTO:-0900
RDATE:20231105T020000
RDATE:20241103T020000
END:STANDARD
BEGIN:DAYLIGHT
TZNAME:AKDT
DTSTART:20230312T020000
TZOFFSETFROM:-0900
TZOFFSETTO:-0800
RDATE:20240310T020000
RDATE:20250309T020000
END:DAYLIGHT
END:VTIMEZONE
BEGIN:VEVENT
UID:68474dc7-ecea-4046-8929-8c2ad02ff857
DTSTAMP:20260425T155946Z
DESCRIPTION:The wonderful Stephanie Patton hosts the show After Hours Alask
 a every Wednesday from 9pm-11pm on KRBD. You can find out more information
  here as she interview musicians on a weekly basis. \n\n
DTSTART;TZID=America/Anchorage:20231011T210000
DTEND;TZID=America/Anchorage:20231011T230000
LOCATION:
SUMMARY:After Hours Alaska
END:VEVENT
END:VCALENDAR
