BEGIN:VCALENDAR
VERSION:2.0
PRODID:-//www.ketchikanarts.org//NONSGML kigkonsult.se iCalcreator 2.30.10/
 /
CALSCALE:GREGORIAN
METHOD:PUBLISH
UID:ff2f61d4-c6e6-4d17-82e7-994b015609dc
X-WR-CALDESC:Get your singing on at Open Mic Night every week.\nNo cover ch
 arge.
X-WR-RELCALID:e2a8d8f85544bc5ab73b4dfbda70f1dd
X-WR-TIMEZONE:America/Anchorage
BEGIN:VTIMEZONE
TZID:America/Anchorage
BEGIN:STANDARD
TZNAME:AKST
DTSTART:20221106T020000
TZOFFSETFROM:-0800
TZOFFSETTO:-0900
RDATE:20231105T020000
RDATE:20241103T020000
END:STANDARD
BEGIN:DAYLIGHT
TZNAME:AKDT
DTSTART:20230312T020000
TZOFFSETFROM:-0900
TZOFFSETTO:-0800
RDATE:20240310T020000
RDATE:20250309T020000
END:DAYLIGHT
END:VTIMEZONE
BEGIN:VEVENT
UID:b3b29eb8-9558-4053-86b1-cc3a5329a76e
DTSTAMP:20260425T155746Z
DESCRIPTION:Get your singing on at Open Mic Night every week.\nNo cover cha
 rge.
DTSTART;TZID=America/Anchorage:20231008T180000
DTEND;TZID=America/Anchorage:20231008T210000
LOCATION:
SUMMARY:Open Mic Night
END:VEVENT
END:VCALENDAR
