BEGIN:VCALENDAR
VERSION:2.0
PRODID:-//www.ketchikanarts.org//NONSGML kigkonsult.se iCalcreator 2.30.10/
 /
CALSCALE:GREGORIAN
METHOD:PUBLISH
UID:6bb44064-2980-4d98-8edb-86a3640d205e
X-WR-CALDESC:Take a break from (rain?) (visitors?) (cooking dinner?) and co
 me downtown see new artwork\, chat with artists\, have a nice dinner and e
 njoy the evening! Start at the Main Street Gallery for the Opening Recepti
 on of Christy Ruby's solo exhibit 'From Bullet to Blanket - The Journey of
  Sea Otter and Seal to Apparel'. \n\nArts Businesses - please sign up with
  the link below...
X-WR-RELCALID:cc41b1b728733528e02061432a4ae08a
X-WR-TIMEZONE:America/Anchorage
BEGIN:VTIMEZONE
TZID:America/Anchorage
BEGIN:STANDARD
TZNAME:AKST
DTSTART:20221106T020000
TZOFFSETFROM:-0800
TZOFFSETTO:-0900
RDATE:20231105T020000
RDATE:20241103T020000
END:STANDARD
BEGIN:DAYLIGHT
TZNAME:AKDT
DTSTART:20230312T020000
TZOFFSETFROM:-0900
TZOFFSETTO:-0800
RDATE:20240310T020000
RDATE:20250309T020000
END:DAYLIGHT
END:VTIMEZONE
BEGIN:VEVENT
UID:c3e2b559-474a-425d-8c72-9aa23fff2823
DTSTAMP:20260425T155216Z
DESCRIPTION:Take a break from (rain?) (visitors?) (cooking dinner?) and com
 e downtown see new artwork\, chat with artists\, have a nice dinner and en
 joy the evening! Start at the Main Street Gallery for the Opening Receptio
 n of Christy Ruby's solo exhibit 'From Bullet to Blanket - The Journey of 
 Sea Otter and Seal to Apparel'. \n\nArts Businesses - please sign up with 
 the link below...
DTSTART;TZID=America/Anchorage:20231006T170000
DTEND;TZID=America/Anchorage:20231006T200000
LOCATION:
SUMMARY:ARTober Art Walk
END:VEVENT
END:VCALENDAR
