BEGIN:VCALENDAR
VERSION:2.0
PRODID:-//www.ketchikanarts.org//NONSGML kigkonsult.se iCalcreator 2.30.10/
 /
CALSCALE:GREGORIAN
METHOD:PUBLISH
UID:b9d9272c-b587-4ab7-9b2c-3044ed54f1f2
X-WR-CALDESC:Click the link below to find out the 2023-2024 Story SLAM Seas
 on Themes!!!
X-WR-RELCALID:ec5c73f7664f7ab6af13a776e872e587
X-WR-TIMEZONE:America/Anchorage
BEGIN:VTIMEZONE
TZID:America/Anchorage
BEGIN:STANDARD
TZNAME:AKST
DTSTART:20221106T020000
TZOFFSETFROM:-0800
TZOFFSETTO:-0900
RDATE:20231105T020000
RDATE:20241103T020000
END:STANDARD
BEGIN:DAYLIGHT
TZNAME:AKDT
DTSTART:20230312T020000
TZOFFSETFROM:-0900
TZOFFSETTO:-0800
RDATE:20240310T020000
RDATE:20250309T020000
END:DAYLIGHT
END:VTIMEZONE
BEGIN:VEVENT
UID:d903f0f8-f084-42ca-bf9a-1328c224f9c2
DTSTAMP:20260425T173054Z
DESCRIPTION:Click the link below to find out the 2023-2024 Story SLAM Seaso
 n Themes!!!
DTSTART;TZID=America/Anchorage:20230912T190000
DTEND;TZID=America/Anchorage:20230912T210000
LOCATION:Creek Street Cabaret
SUMMARY:Summer Slam 'A Year of...'
END:VEVENT
END:VCALENDAR
