BEGIN:VCALENDAR
VERSION:2.0
PRODID:-//www.ketchikanarts.org//NONSGML kigkonsult.se iCalcreator 2.30.10/
 /
CALSCALE:GREGORIAN
METHOD:PUBLISH
UID:42c5260b-4127-4fab-a173-142288c233bf
X-WR-CALDESC:
X-WR-RELCALID:e5dbff5053a9b9d81e12acd572d0fd14
X-WR-TIMEZONE:America/Anchorage
BEGIN:VTIMEZONE
TZID:America/Anchorage
BEGIN:STANDARD
TZNAME:AKST
DTSTART:20221106T020000
TZOFFSETFROM:-0800
TZOFFSETTO:-0900
RDATE:20231105T020000
RDATE:20241103T020000
END:STANDARD
BEGIN:DAYLIGHT
TZNAME:AKDT
DTSTART:20230312T020000
TZOFFSETFROM:-0900
TZOFFSETTO:-0800
RDATE:20240310T020000
RDATE:20250309T020000
END:DAYLIGHT
END:VTIMEZONE
BEGIN:VEVENT
UID:8d027d01-d203-4583-ab1b-61efeaa871bb
DTSTAMP:20260425T172914Z
DESCRIPTION:
DTSTART;TZID=America/Anchorage:20230912T180000
DTEND;TZID=America/Anchorage:20230912T190000
LOCATION:
SUMMARY:'Exploring Maritime Careers' Ask UAS
END:VEVENT
END:VCALENDAR
