BEGIN:VCALENDAR
VERSION:2.0
PRODID:-//www.ketchikanarts.org//NONSGML kigkonsult.se iCalcreator 2.30.10/
 /
CALSCALE:GREGORIAN
METHOD:PUBLISH
UID:fb7f20ee-73cf-493f-9e87-ebbf8d6003c7
X-WR-CALDESC:Ketchikan's Kapamilya Tree is an exhibit featuring the Filipin
 o families of Ketchikan\, showing their connection to each other and the c
 ommunity. Featured in the exhibit are images of families\, regalia\, cultu
 ral artifacts\, and the photography of Dr. Charles Jose from his travels i
 n the Philippines. \n\nTo see images from the exhibit and to purchase the 
 works of Dr. Jose follow the link below. All sales Dr. Jose's photography 
 go to the Rural Health Scholar Pipeline fund to support youth from rural c
 ommunities interested in pursuing a career in health care.
X-WR-RELCALID:bc979cc5e7c4b651cbf4bbee4065fceb
X-WR-TIMEZONE:America/Anchorage
BEGIN:VTIMEZONE
TZID:America/Anchorage
BEGIN:STANDARD
TZNAME:AKST
DTSTART:20221106T020000
TZOFFSETFROM:-0800
TZOFFSETTO:-0900
RDATE:20231105T020000
RDATE:20241103T020000
END:STANDARD
BEGIN:DAYLIGHT
TZNAME:AKDT
DTSTART:20230312T020000
TZOFFSETFROM:-0900
TZOFFSETTO:-0800
RDATE:20240310T020000
END:DAYLIGHT
END:VTIMEZONE
BEGIN:VEVENT
UID:bd40b5bf-2bc1-4e4f-8818-65c1ab022a9b
DTSTAMP:20260425T172850Z
DESCRIPTION:Ketchikan's Kapamilya Tree is an exhibit featuring the Filipino
  families of Ketchikan\, showing their connection to each other and the co
 mmunity. Featured in the exhibit are images of families\, regalia\, cultur
 al artifacts\, and the photography of Dr. Charles Jose from his travels in
  the Philippines. \n\nTo see images from the exhibit and to purchase the w
 orks of Dr. Jose follow the link below. All sales Dr. Jose's photography g
 o to the Rural Health Scholar Pipeline fund to support youth from rural co
 mmunities interested in pursuing a career in health care.
DTSTART;TZID=America/Anchorage:20230902T000000
DTEND;TZID=America/Anchorage:20230929T235900
LOCATION:
SUMMARY:Ketchikan's Kapamilya Tree
END:VEVENT
END:VCALENDAR
