BEGIN:VCALENDAR
VERSION:2.0
PRODID:-//www.ketchikanarts.org//NONSGML kigkonsult.se iCalcreator 2.30.10/
 /
CALSCALE:GREGORIAN
METHOD:PUBLISH
UID:16957775-1aa1-4e8f-a57b-f9f93f335655
X-WR-CALDESC:
X-WR-RELCALID:9450ccf3ac88b4d7d4f657d003b8ad92
X-WR-TIMEZONE:America/Anchorage
BEGIN:VTIMEZONE
TZID:America/Anchorage
BEGIN:STANDARD
TZNAME:AKST
DTSTART:20221106T020000
TZOFFSETFROM:-0800
TZOFFSETTO:-0900
RDATE:20231105T020000
RDATE:20241103T020000
END:STANDARD
BEGIN:DAYLIGHT
TZNAME:AKDT
DTSTART:20230312T020000
TZOFFSETFROM:-0900
TZOFFSETTO:-0800
RDATE:20240310T020000
END:DAYLIGHT
END:VTIMEZONE
BEGIN:VEVENT
UID:1dfbafe7-57df-4311-9f03-7713724aa0bc
DTSTAMP:20260425T174850Z
DESCRIPTION:
DTSTART;TZID=America/Anchorage:20230901T000000
DTEND;TZID=America/Anchorage:20230901T235900
LOCATION:The Commons Gallery
SUMMARY:Call for Artists DEADLINE for The Commons 4th Quarter Deadline Exhi
 bit
END:VEVENT
END:VCALENDAR
