BEGIN:VCALENDAR
VERSION:2.0
PRODID:-//www.ketchikanarts.org//NONSGML kigkonsult.se iCalcreator 2.30.10/
 /
CALSCALE:GREGORIAN
METHOD:PUBLISH
UID:9f233c9a-ed60-405a-9214-7a72a65e3a64
X-WR-CALDESC:
X-WR-RELCALID:9ce3468ab91acf69eb86899bedcc9cea
X-WR-TIMEZONE:America/Anchorage
BEGIN:VTIMEZONE
TZID:America/Anchorage
BEGIN:STANDARD
TZNAME:AKST
DTSTART:20221106T020000
TZOFFSETFROM:-0800
TZOFFSETTO:-0900
RDATE:20231105T020000
RDATE:20241103T020000
END:STANDARD
BEGIN:DAYLIGHT
TZNAME:AKDT
DTSTART:20230312T020000
TZOFFSETFROM:-0900
TZOFFSETTO:-0800
RDATE:20240310T020000
END:DAYLIGHT
END:VTIMEZONE
BEGIN:VEVENT
UID:b7c8d415-7f92-4a21-9041-2934d7f4f9d9
DTSTAMP:20260425T185233Z
DESCRIPTION:
DTSTART;TZID=America/Anchorage:20230829T120000
DTEND;TZID=America/Anchorage:20230829T130000
LOCATION:
SUMMARY:Music on the Dock - jojo & deedee
END:VEVENT
END:VCALENDAR
