BEGIN:VCALENDAR
VERSION:2.0
PRODID:-//www.ketchikanarts.org//NONSGML kigkonsult.se iCalcreator 2.30.10/
 /
CALSCALE:GREGORIAN
METHOD:PUBLISH
UID:27976509-1f47-449e-a00b-0803ccfcc5fb
X-WR-CALDESC:
X-WR-RELCALID:216ba5852a1d744ffc466a6c2335705e
X-WR-TIMEZONE:America/Anchorage
BEGIN:VTIMEZONE
TZID:America/Anchorage
BEGIN:STANDARD
TZNAME:AKST
DTSTART:20221106T020000
TZOFFSETFROM:-0800
TZOFFSETTO:-0900
RDATE:20231105T020000
RDATE:20241103T020000
END:STANDARD
BEGIN:DAYLIGHT
TZNAME:AKDT
DTSTART:20230312T020000
TZOFFSETFROM:-0900
TZOFFSETTO:-0800
RDATE:20240310T020000
END:DAYLIGHT
END:VTIMEZONE
BEGIN:VEVENT
UID:1933fc4c-80c1-42d7-b2d9-ea6be862433b
DTSTAMP:20260425T185917Z
DESCRIPTION:
DTSTART;TZID=America/Anchorage:20230822T120000
DTEND;TZID=America/Anchorage:20230822T130000
LOCATION:
SUMMARY:Music on the Dock - DJ Archieologic
END:VEVENT
END:VCALENDAR
