BEGIN:VCALENDAR
VERSION:2.0
PRODID:-//www.ketchikanarts.org//NONSGML kigkonsult.se iCalcreator 2.30.10/
 /
CALSCALE:GREGORIAN
METHOD:PUBLISH
UID:6037fa95-79b3-43ba-b84d-61349094d4b4
X-WR-CALDESC:
X-WR-RELCALID:ca8cabbf9dae4c174e576a1f83e3f827
X-WR-TIMEZONE:America/Anchorage
BEGIN:VTIMEZONE
TZID:America/Anchorage
BEGIN:STANDARD
TZNAME:AKST
DTSTART:20221106T020000
TZOFFSETFROM:-0800
TZOFFSETTO:-0900
RDATE:20231105T020000
RDATE:20241103T020000
END:STANDARD
BEGIN:DAYLIGHT
TZNAME:AKDT
DTSTART:20230312T020000
TZOFFSETFROM:-0900
TZOFFSETTO:-0800
RDATE:20240310T020000
END:DAYLIGHT
END:VTIMEZONE
BEGIN:VEVENT
UID:b0759b87-ca0a-4266-b001-b5ce380d7dba
DTSTAMP:20260425T190203Z
DESCRIPTION:
DTSTART;TZID=America/Anchorage:20230815T120000
DTEND;TZID=America/Anchorage:20230815T130000
LOCATION:
SUMMARY:Music on the Dock - Lallette Kistler
END:VEVENT
END:VCALENDAR
