BEGIN:VCALENDAR
VERSION:2.0
PRODID:-//www.ketchikanarts.org//NONSGML kigkonsult.se iCalcreator 2.30.10/
 /
CALSCALE:GREGORIAN
METHOD:PUBLISH
UID:3903405c-7a55-4d2e-85cc-534f8a38a48c
X-WR-CALDESC:Ketchikan Running Club presents the Karen Eakes Memorial Run! 
 Click the website link below for exact race times and more information!
X-WR-RELCALID:5a1d146f2ae136ea26ad877aa83e58a2
X-WR-TIMEZONE:America/Anchorage
BEGIN:VTIMEZONE
TZID:America/Anchorage
BEGIN:STANDARD
TZNAME:AKST
DTSTART:20221106T020000
TZOFFSETFROM:-0800
TZOFFSETTO:-0900
RDATE:20231105T020000
RDATE:20241103T020000
END:STANDARD
BEGIN:DAYLIGHT
TZNAME:AKDT
DTSTART:20230312T020000
TZOFFSETFROM:-0900
TZOFFSETTO:-0800
RDATE:20240310T020000
END:DAYLIGHT
END:VTIMEZONE
BEGIN:VEVENT
UID:7f9e5c3c-7f2c-4d04-b302-5333d055876d
DTSTAMP:20260425T190350Z
DESCRIPTION:Ketchikan Running Club presents the Karen Eakes Memorial Run! C
 lick the website link below for exact race times and more information!
DTSTART;TZID=America/Anchorage:20230813T120000
DTEND;TZID=America/Anchorage:20230813T130000
LOCATION:
SUMMARY:Karen Eakes Memorial Run - Ketchikan Running Club
END:VEVENT
END:VCALENDAR
