BEGIN:VCALENDAR
VERSION:2.0
PRODID:-//www.ketchikanarts.org//NONSGML kigkonsult.se iCalcreator 2.30.10/
 /
CALSCALE:GREGORIAN
METHOD:PUBLISH
UID:04f5c136-3f2c-4502-9de9-2cf1e7736a18
X-WR-CALDESC:
X-WR-RELCALID:efd7b0091c072323425e79ad53a8a941
X-WR-TIMEZONE:America/Anchorage
BEGIN:VTIMEZONE
TZID:America/Anchorage
BEGIN:STANDARD
TZNAME:AKST
DTSTART:20221106T020000
TZOFFSETFROM:-0800
TZOFFSETTO:-0900
RDATE:20231105T020000
RDATE:20241103T020000
END:STANDARD
BEGIN:DAYLIGHT
TZNAME:AKDT
DTSTART:20230312T020000
TZOFFSETFROM:-0900
TZOFFSETTO:-0800
RDATE:20240310T020000
END:DAYLIGHT
END:VTIMEZONE
BEGIN:VEVENT
UID:2f7debae-b8ab-4477-b4c9-3f173df96236
DTSTAMP:20260425T190948Z
DESCRIPTION:
DTSTART;TZID=America/Anchorage:20230812T143000
DTEND;TZID=America/Anchorage:20230812T160000
LOCATION:
SUMMARY:Newsies Jr. - First City Players
END:VEVENT
END:VCALENDAR
