BEGIN:VCALENDAR
VERSION:2.0
PRODID:-//www.ketchikanarts.org//NONSGML kigkonsult.se iCalcreator 2.30.10/
 /
CALSCALE:GREGORIAN
METHOD:PUBLISH
UID:c7f48611-fb37-481a-b765-3297fa2fa946
X-WR-CALDESC:
X-WR-RELCALID:03ef3a01af83aa179b67dae96b8c190a
X-WR-TIMEZONE:America/Anchorage
BEGIN:VTIMEZONE
TZID:America/Anchorage
BEGIN:STANDARD
TZNAME:AKST
DTSTART:20221106T020000
TZOFFSETFROM:-0800
TZOFFSETTO:-0900
RDATE:20231105T020000
RDATE:20241103T020000
END:STANDARD
BEGIN:DAYLIGHT
TZNAME:AKDT
DTSTART:20230312T020000
TZOFFSETFROM:-0900
TZOFFSETTO:-0800
RDATE:20240310T020000
END:DAYLIGHT
END:VTIMEZONE
BEGIN:VEVENT
UID:1f6a207f-ef14-4345-8c0a-ee72e5425b91
DTSTAMP:20260425T191317Z
DESCRIPTION:
DTSTART;TZID=America/Anchorage:20230811T193000
DTEND;TZID=America/Anchorage:20230811T210000
LOCATION:
SUMMARY:Newsies Jr. - First City Players
END:VEVENT
END:VCALENDAR
