BEGIN:VCALENDAR
VERSION:2.0
PRODID:-//www.ketchikanarts.org//NONSGML kigkonsult.se iCalcreator 2.30.10/
 /
CALSCALE:GREGORIAN
METHOD:PUBLISH
UID:36ce9b70-dfb6-41dc-9ff6-d47aaaf5ab6c
X-WR-CALDESC:
X-WR-RELCALID:a7058b1c191673cf60b1ff3a31491918
X-WR-TIMEZONE:America/Anchorage
BEGIN:VTIMEZONE
TZID:America/Anchorage
BEGIN:STANDARD
TZNAME:AKST
DTSTART:20221106T020000
TZOFFSETFROM:-0800
TZOFFSETTO:-0900
RDATE:20231105T020000
RDATE:20241103T020000
END:STANDARD
BEGIN:DAYLIGHT
TZNAME:AKDT
DTSTART:20230312T020000
TZOFFSETFROM:-0900
TZOFFSETTO:-0800
RDATE:20240310T020000
END:DAYLIGHT
END:VTIMEZONE
BEGIN:VEVENT
UID:e08a0f95-e19e-46cf-acf6-4a36fda4d3da
DTSTAMP:20260425T185943Z
DESCRIPTION:
DTSTART;TZID=America/Anchorage:20230810T120000
DTEND;TZID=America/Anchorage:20230810T130000
LOCATION:
SUMMARY:Music on the Dock - Scatterted Sunshine Trombone Choir
END:VEVENT
END:VCALENDAR
