BEGIN:VCALENDAR
VERSION:2.0
PRODID:-//www.ketchikanarts.org//NONSGML kigkonsult.se iCalcreator 2.30.10/
 /
CALSCALE:GREGORIAN
METHOD:PUBLISH
UID:34349a41-3ec2-4b0e-a27f-ef176bfd0adb
X-WR-CALDESC:
X-WR-RELCALID:272800468305a02dc6254d98d6c985df
X-WR-TIMEZONE:America/Anchorage
BEGIN:VTIMEZONE
TZID:America/Anchorage
BEGIN:STANDARD
TZNAME:AKST
DTSTART:20221106T020000
TZOFFSETFROM:-0800
TZOFFSETTO:-0900
RDATE:20231105T020000
RDATE:20241103T020000
END:STANDARD
BEGIN:DAYLIGHT
TZNAME:AKDT
DTSTART:20230312T020000
TZOFFSETFROM:-0900
TZOFFSETTO:-0800
RDATE:20240310T020000
END:DAYLIGHT
END:VTIMEZONE
BEGIN:VEVENT
UID:c60d89bc-5a21-4dc3-ba40-6e996f7410d3
DTSTAMP:20260425T190117Z
DESCRIPTION:
DTSTART;TZID=America/Anchorage:20230806T190000
DTEND;TZID=America/Anchorage:20230806T210000
LOCATION:KayHi Auditorium
SUMMARY:Gigglefeet Dance Festival
END:VEVENT
END:VCALENDAR
