BEGIN:VCALENDAR
VERSION:2.0
PRODID:-//www.ketchikanarts.org//NONSGML kigkonsult.se iCalcreator 2.30.10/
 /
CALSCALE:GREGORIAN
METHOD:PUBLISH
UID:2ede3493-d7e9-4989-a85b-92d9eeb23a45
X-WR-CALDESC:First City Toastmasters welcomes all who want to improve their
  confidence in speaking to a group of 2 or 200. Perfect for mastering arti
 st talks!\nEvery Tuesday!\n6:45 - 7:45 am. In-person on the lower level of
  the Presbyterian Church or by ZOOM.
X-WR-RELCALID:5e1b164a0b72266946cb5ea36f37f817
X-WR-TIMEZONE:America/Anchorage
BEGIN:VTIMEZONE
TZID:America/Anchorage
BEGIN:STANDARD
TZNAME:AKST
DTSTART:20221106T020000
TZOFFSETFROM:-0800
TZOFFSETTO:-0900
RDATE:20231105T020000
RDATE:20241103T020000
END:STANDARD
BEGIN:DAYLIGHT
TZNAME:AKDT
DTSTART:20230312T020000
TZOFFSETFROM:-0900
TZOFFSETTO:-0800
RDATE:20240310T020000
END:DAYLIGHT
END:VTIMEZONE
BEGIN:VEVENT
UID:028434d1-38cf-42fa-855c-a7f9a2448323
DTSTAMP:20260425T190254Z
DESCRIPTION:First City Toastmasters welcomes all who want to improve their 
 confidence in speaking to a group of 2 or 200. Perfect for mastering artis
 t talks!\nEvery Tuesday!\n6:45 - 7:45 am. In-person on the lower level of 
 the Presbyterian Church or by ZOOM.
DTSTART;TZID=America/Anchorage:20230801T064500
DTEND;TZID=America/Anchorage:20230801T074500
LOCATION:
SUMMARY:First City Toastmasters Club
END:VEVENT
END:VCALENDAR
