BEGIN:VCALENDAR
VERSION:2.0
PRODID:-//www.ketchikanarts.org//NONSGML kigkonsult.se iCalcreator 2.30.10/
 /
CALSCALE:GREGORIAN
METHOD:PUBLISH
UID:0adc6b03-4f89-4ba3-b2ce-c9c3da4e28f5
X-WR-CALDESC:Professor Muli Amaye will facilitate a creative writing worksh
 op at the Ketchikan Public Library. Whether you are a poet\, a story telle
 r or looking to publish\, you will learn tips and tricks at this workshop!
 \n\nFree\nAll levels welcome!\n\n
X-WR-RELCALID:76ceba6dbdeae2f7fac6c7747b31ce76
X-WR-TIMEZONE:America/Anchorage
BEGIN:VTIMEZONE
TZID:America/Anchorage
BEGIN:STANDARD
TZNAME:AKST
DTSTART:20221106T020000
TZOFFSETFROM:-0800
TZOFFSETTO:-0900
RDATE:20231105T020000
RDATE:20241103T020000
END:STANDARD
BEGIN:DAYLIGHT
TZNAME:AKDT
DTSTART:20230312T020000
TZOFFSETFROM:-0900
TZOFFSETTO:-0800
RDATE:20240310T020000
END:DAYLIGHT
END:VTIMEZONE
BEGIN:VEVENT
UID:3a5c9630-09b3-42f5-9e6d-5aab12018ddb
DTSTAMP:20260425T201722Z
DESCRIPTION:Professor Muli Amaye will facilitate a creative writing worksho
 p at the Ketchikan Public Library. Whether you are a poet\, a story teller
  or looking to publish\, you will learn tips and tricks at this workshop!
 \n\nFree\nAll levels welcome!\n\n
DTSTART;TZID=America/Anchorage:20230729T140000
DTEND;TZID=America/Anchorage:20230729T170000
LOCATION:Ketchikan Public Library
SUMMARY:Creative Writing Workshop
END:VEVENT
END:VCALENDAR
