BEGIN:VCALENDAR
VERSION:2.0
PRODID:-//www.ketchikanarts.org//NONSGML kigkonsult.se iCalcreator 2.30.10/
 /
CALSCALE:GREGORIAN
METHOD:PUBLISH
UID:d0f28b10-c168-45aa-a42e-a19961628cf1
X-WR-CALDESC:
X-WR-RELCALID:15d39b3d0082c9717f856c5c1cdf6c44
X-WR-TIMEZONE:America/Anchorage
BEGIN:VTIMEZONE
TZID:America/Anchorage
BEGIN:STANDARD
TZNAME:AKST
DTSTART:20221106T020000
TZOFFSETFROM:-0800
TZOFFSETTO:-0900
RDATE:20231105T020000
RDATE:20241103T020000
END:STANDARD
BEGIN:DAYLIGHT
TZNAME:AKDT
DTSTART:20230312T020000
TZOFFSETFROM:-0900
TZOFFSETTO:-0800
RDATE:20240310T020000
END:DAYLIGHT
END:VTIMEZONE
BEGIN:VEVENT
UID:cb8b8ede-f8ed-40bd-8612-6f677b471287
DTSTAMP:20260425T202150Z
DESCRIPTION:
DTSTART;TZID=America/Anchorage:20230728T120000
DTEND;TZID=America/Anchorage:20230728T130000
LOCATION:
SUMMARY:Music on the Dock - The Point Band
END:VEVENT
END:VCALENDAR
