BEGIN:VCALENDAR
VERSION:2.0
PRODID:-//www.ketchikanarts.org//NONSGML kigkonsult.se iCalcreator 2.30.10/
 /
CALSCALE:GREGORIAN
METHOD:PUBLISH
UID:e6fbfcfe-9976-4399-9945-2df3f547380d
X-WR-CALDESC:
X-WR-RELCALID:95038b740b6be0c3537026231f258248
X-WR-TIMEZONE:America/Anchorage
BEGIN:VTIMEZONE
TZID:America/Anchorage
BEGIN:STANDARD
TZNAME:AKST
DTSTART:20221106T020000
TZOFFSETFROM:-0800
TZOFFSETTO:-0900
RDATE:20231105T020000
RDATE:20241103T020000
END:STANDARD
BEGIN:DAYLIGHT
TZNAME:AKDT
DTSTART:20230312T020000
TZOFFSETFROM:-0900
TZOFFSETTO:-0800
RDATE:20240310T020000
END:DAYLIGHT
END:VTIMEZONE
BEGIN:VEVENT
UID:1b9bc8f2-f474-44aa-95ed-38cb9d1c970d
DTSTAMP:20260425T204235Z
DESCRIPTION:
DTSTART;TZID=America/Anchorage:20230728T000000
DTEND;TZID=America/Anchorage:20230728T235900
LOCATION:
SUMMARY:ArtsCool - Winnie the Pooh!
END:VEVENT
END:VCALENDAR
