BEGIN:VCALENDAR
VERSION:2.0
PRODID:-//www.ketchikanarts.org//NONSGML kigkonsult.se iCalcreator 2.30.10/
 /
CALSCALE:GREGORIAN
METHOD:PUBLISH
UID:77042109-307c-41d3-be78-4f1c8d282cf6
X-WR-CALDESC:Artists of all varieties can send work to Haines to enter in e
 xhibits and contest at the SE AK State Fair!!! Wearable Artists don't forg
 et you can send your pieces up to Haines (or TAKE your pieces up to Haines
 ) to participate in the Wearable Review! Travel assistance is available - 
 see links below.
X-WR-RELCALID:10c960c2498b4a86ffbd778108b794f6
X-WR-TIMEZONE:America/Anchorage
BEGIN:VTIMEZONE
TZID:America/Anchorage
BEGIN:STANDARD
TZNAME:AKST
DTSTART:20221106T020000
TZOFFSETFROM:-0800
TZOFFSETTO:-0900
RDATE:20231105T020000
RDATE:20241103T020000
END:STANDARD
BEGIN:DAYLIGHT
TZNAME:AKDT
DTSTART:20230312T020000
TZOFFSETFROM:-0900
TZOFFSETTO:-0800
RDATE:20240310T020000
END:DAYLIGHT
END:VTIMEZONE
BEGIN:VEVENT
UID:bc3a3396-0d3a-4a68-9b53-1e8c966b93f9
DTSTAMP:20260425T203251Z
DESCRIPTION:Artists of all varieties can send work to Haines to enter in ex
 hibits and contest at the SE AK State Fair!!! Wearable Artists don't forge
 t you can send your pieces up to Haines (or TAKE your pieces up to Haines)
  to participate in the Wearable Review! Travel assistance is available - s
 ee links below.
DTSTART;TZID=America/Anchorage:20230727T120000
DTEND;TZID=America/Anchorage:20230730T180000
LOCATION:
SUMMARY:Southeast Alaska State Fair - Haines
END:VEVENT
END:VCALENDAR
