BEGIN:VCALENDAR
VERSION:2.0
PRODID:-//www.ketchikanarts.org//NONSGML kigkonsult.se iCalcreator 2.30.10/
 /
CALSCALE:GREGORIAN
METHOD:PUBLISH
UID:4a60c607-769e-48a0-b70c-c1888e39fa13
X-WR-CALDESC:Join us for our monthly meeting!
X-WR-RELCALID:efdd7d5cb09672c90f0a2001c3553191
X-WR-TIMEZONE:America/Anchorage
BEGIN:VTIMEZONE
TZID:America/Anchorage
BEGIN:STANDARD
TZNAME:AKST
DTSTART:20221106T020000
TZOFFSETFROM:-0800
TZOFFSETTO:-0900
RDATE:20231105T020000
RDATE:20241103T020000
END:STANDARD
BEGIN:DAYLIGHT
TZNAME:AKDT
DTSTART:20230312T020000
TZOFFSETFROM:-0900
TZOFFSETTO:-0800
RDATE:20240310T020000
END:DAYLIGHT
END:VTIMEZONE
BEGIN:VEVENT
UID:f65f2322-708c-416d-a4a8-ec9b77b79318
DTSTAMP:20260425T203536Z
DESCRIPTION:Join us for our monthly meeting!
DTSTART;TZID=America/Anchorage:20230725T183000
DTEND;TZID=America/Anchorage:20230725T200000
LOCATION:Holy Name Parish Hall
SUMMARY:Rainy Day Quilt Guild Meeting
END:VEVENT
END:VCALENDAR
