BEGIN:VCALENDAR
VERSION:2.0
PRODID:-//www.ketchikanarts.org//NONSGML kigkonsult.se iCalcreator 2.30.10/
 /
CALSCALE:GREGORIAN
METHOD:PUBLISH
UID:3fc29eb2-a4a8-4fd1-aba4-beb76c9985b1
X-WR-CALDESC:
X-WR-RELCALID:4c4e5b5ce72e5aec3d492b036c56417b
X-WR-TIMEZONE:America/Anchorage
BEGIN:VTIMEZONE
TZID:America/Anchorage
BEGIN:STANDARD
TZNAME:AKST
DTSTART:20221106T020000
TZOFFSETFROM:-0800
TZOFFSETTO:-0900
RDATE:20231105T020000
RDATE:20241103T020000
END:STANDARD
BEGIN:DAYLIGHT
TZNAME:AKDT
DTSTART:20230312T020000
TZOFFSETFROM:-0900
TZOFFSETTO:-0800
RDATE:20240310T020000
END:DAYLIGHT
END:VTIMEZONE
BEGIN:VEVENT
UID:1f22eb37-c9c5-4296-aad4-19c7501b845c
DTSTAMP:20260425T201945Z
DESCRIPTION:
DTSTART;TZID=America/Anchorage:20230723T170000
DTEND;TZID=America/Anchorage:20230723T190000
LOCATION:
SUMMARY:Rock The Boat Fundraiser
END:VEVENT
END:VCALENDAR
