BEGIN:VCALENDAR
VERSION:2.0
PRODID:-//www.ketchikanarts.org//NONSGML kigkonsult.se iCalcreator 2.30.10/
 /
CALSCALE:GREGORIAN
METHOD:PUBLISH
UID:badb10fb-0155-46f9-9a53-a3f3ee53ca8d
X-WR-CALDESC:
X-WR-RELCALID:e74cdbe06a18131c6cefd7144ab7ecd2
X-WR-TIMEZONE:America/Anchorage
BEGIN:VTIMEZONE
TZID:America/Anchorage
BEGIN:STANDARD
TZNAME:AKST
DTSTART:20221106T020000
TZOFFSETFROM:-0800
TZOFFSETTO:-0900
RDATE:20231105T020000
RDATE:20241103T020000
END:STANDARD
BEGIN:DAYLIGHT
TZNAME:AKDT
DTSTART:20230312T020000
TZOFFSETFROM:-0900
TZOFFSETTO:-0800
RDATE:20240310T020000
END:DAYLIGHT
END:VTIMEZONE
BEGIN:VEVENT
UID:ed9d05b0-c9e5-4605-88ca-d1e9ef79e483
DTSTAMP:20260425T202008Z
DESCRIPTION:
DTSTART;TZID=America/Anchorage:20230721T120000
DTEND;TZID=America/Anchorage:20230721T130000
LOCATION:
SUMMARY:Music on the Dock - DJ Archieologic
END:VEVENT
END:VCALENDAR
