BEGIN:VCALENDAR
VERSION:2.0
PRODID:-//www.ketchikanarts.org//NONSGML kigkonsult.se iCalcreator 2.30.10/
 /
CALSCALE:GREGORIAN
METHOD:PUBLISH
UID:411a4523-ed2c-4d59-bcb8-b31afb6a183b
X-WR-CALDESC:Fish Pirate's Daughter\nEnjoy this original show written for K
 etchikan.  \nDoors open Friday and Saturday at 7pm\nAdults $35\, Seniors/A
 ctive Military $30\, Youth 12 and under $25\nTed Ferry Civic Center\n
X-WR-RELCALID:5dc9cc7fd1f9d88f21a1b0ad13b872a8
X-WR-TIMEZONE:America/Anchorage
BEGIN:VTIMEZONE
TZID:America/Anchorage
BEGIN:STANDARD
TZNAME:AKST
DTSTART:20221106T020000
TZOFFSETFROM:-0800
TZOFFSETTO:-0900
RDATE:20231105T020000
RDATE:20241103T020000
END:STANDARD
BEGIN:DAYLIGHT
TZNAME:AKDT
DTSTART:20230312T020000
TZOFFSETFROM:-0900
TZOFFSETTO:-0800
RDATE:20240310T020000
END:DAYLIGHT
END:VTIMEZONE
BEGIN:VEVENT
UID:77424b27-ec5c-446a-b8a6-56b7a819d7a1
DTSTAMP:20260425T202311Z
DESCRIPTION:Fish Pirate's Daughter\nEnjoy this original show written for Ke
 tchikan.  \nDoors open Friday and Saturday at 7pm\nAdults $35\, Seniors/Ac
 tive Military $30\, Youth 12 and under $25\nTed Ferry Civic Center\n
DTSTART;TZID=America/Anchorage:20230714T190000
DTEND;TZID=America/Anchorage:20230714T210000
LOCATION:
SUMMARY:Fish Pirate's Daughter
END:VEVENT
END:VCALENDAR
