BEGIN:VCALENDAR
VERSION:2.0
PRODID:-//www.ketchikanarts.org//NONSGML kigkonsult.se iCalcreator 2.30.10/
 /
CALSCALE:GREGORIAN
METHOD:PUBLISH
UID:cf9ba708-4601-48b2-8c0f-57f26b66258d
X-WR-CALDESC:
X-WR-RELCALID:c5580e7a397689a77c638e56e746d1b6
X-WR-TIMEZONE:America/Anchorage
BEGIN:VTIMEZONE
TZID:America/Anchorage
BEGIN:STANDARD
TZNAME:AKST
DTSTART:20221106T020000
TZOFFSETFROM:-0800
TZOFFSETTO:-0900
RDATE:20231105T020000
RDATE:20241103T020000
END:STANDARD
BEGIN:DAYLIGHT
TZNAME:AKDT
DTSTART:20230312T020000
TZOFFSETFROM:-0900
TZOFFSETTO:-0800
RDATE:20240310T020000
END:DAYLIGHT
END:VTIMEZONE
BEGIN:VEVENT
UID:ff4bb696-aadc-46ee-9425-ab06f4d381ad
DTSTAMP:20260425T202723Z
DESCRIPTION:
DTSTART;TZID=America/Anchorage:20230710T180000
DTEND;TZID=America/Anchorage:20230710T190000
LOCATION:
SUMMARY:BOOMbal Dance Hall Lindy Hop
END:VEVENT
END:VCALENDAR
