BEGIN:VCALENDAR
VERSION:2.0
PRODID:-//www.ketchikanarts.org//NONSGML kigkonsult.se iCalcreator 2.30.10/
 /
CALSCALE:GREGORIAN
METHOD:PUBLISH
UID:6a41211d-8c13-4521-bdea-d22d89018a0b
X-WR-CALDESC:
X-WR-RELCALID:c636e0c3c7fefcd688993330f60d6861
X-WR-TIMEZONE:America/Anchorage
BEGIN:VTIMEZONE
TZID:America/Anchorage
BEGIN:STANDARD
TZNAME:AKST
DTSTART:20221106T020000
TZOFFSETFROM:-0800
TZOFFSETTO:-0900
RDATE:20231105T020000
RDATE:20241103T020000
END:STANDARD
BEGIN:DAYLIGHT
TZNAME:AKDT
DTSTART:20230312T020000
TZOFFSETFROM:-0900
TZOFFSETTO:-0800
RDATE:20240310T020000
END:DAYLIGHT
END:VTIMEZONE
BEGIN:VEVENT
UID:f2fe1d5d-7d43-477f-aeb8-eea97af1dab9
DTSTAMP:20260425T201854Z
DESCRIPTION:
DTSTART;TZID=America/Anchorage:20230706T120000
DTEND;TZID=America/Anchorage:20230706T130000
LOCATION:
SUMMARY:Music on the Dock - The String Beings
END:VEVENT
END:VCALENDAR
