BEGIN:VCALENDAR
VERSION:2.0
PRODID:-//www.ketchikanarts.org//NONSGML kigkonsult.se iCalcreator 2.30.10/
 /
CALSCALE:GREGORIAN
METHOD:PUBLISH
UID:114e3355-b655-4fcc-aa94-e293203ea9ce
X-WR-CALDESC:
X-WR-RELCALID:e77c49a564a758af259e7f9da6ddbbbf
X-WR-TIMEZONE:America/Anchorage
BEGIN:VTIMEZONE
TZID:America/Anchorage
BEGIN:STANDARD
TZNAME:AKST
DTSTART:20221106T020000
TZOFFSETFROM:-0800
TZOFFSETTO:-0900
RDATE:20231105T020000
RDATE:20241103T020000
END:STANDARD
BEGIN:DAYLIGHT
TZNAME:AKDT
DTSTART:20230312T020000
TZOFFSETFROM:-0900
TZOFFSETTO:-0800
RDATE:20240310T020000
END:DAYLIGHT
END:VTIMEZONE
BEGIN:VEVENT
UID:1b0e3e37-9c98-46e5-96b5-a596a723e130
DTSTAMP:20260425T201825Z
DESCRIPTION:
DTSTART;TZID=America/Anchorage:20230702T190000
DTEND;TZID=America/Anchorage:20230702T210000
LOCATION:
SUMMARY:Swing Dance Party
END:VEVENT
END:VCALENDAR
