BEGIN:VCALENDAR
VERSION:2.0
PRODID:-//www.ketchikanarts.org//NONSGML kigkonsult.se iCalcreator 2.30.10/
 /
CALSCALE:GREGORIAN
METHOD:PUBLISH
UID:4bda6233-f6a4-4859-9269-646e596cc1ec
X-WR-CALDESC:
X-WR-RELCALID:8c547373ca2ecaa99f60fc7b9ba78063
X-WR-TIMEZONE:America/Anchorage
BEGIN:VTIMEZONE
TZID:America/Anchorage
BEGIN:STANDARD
TZNAME:AKST
DTSTART:20221106T020000
TZOFFSETFROM:-0800
TZOFFSETTO:-0900
RDATE:20231105T020000
RDATE:20241103T020000
END:STANDARD
BEGIN:DAYLIGHT
TZNAME:AKDT
DTSTART:20230312T020000
TZOFFSETFROM:-0900
TZOFFSETTO:-0800
RDATE:20240310T020000
END:DAYLIGHT
END:VTIMEZONE
BEGIN:VEVENT
UID:32d54ba4-9e21-4173-add0-9847535862b8
DTSTAMP:20260425T203130Z
DESCRIPTION:
DTSTART;TZID=America/Anchorage:20230630T150000
DTEND;TZID=America/Anchorage:20230702T160000
LOCATION:
SUMMARY:Polynesian Voyaging Society Festivities
END:VEVENT
END:VCALENDAR
