BEGIN:VCALENDAR
VERSION:2.0
PRODID:-//www.ketchikanarts.org//NONSGML kigkonsult.se iCalcreator 2.30.10/
 /
CALSCALE:GREGORIAN
METHOD:PUBLISH
UID:db1683ff-1e81-495d-96b0-6360f2d6e580
X-WR-CALDESC:
X-WR-RELCALID:b5eefd80982d0728004334712b7ec540
X-WR-TIMEZONE:America/Anchorage
BEGIN:VTIMEZONE
TZID:America/Anchorage
BEGIN:STANDARD
TZNAME:AKST
DTSTART:20221106T020000
TZOFFSETFROM:-0800
TZOFFSETTO:-0900
RDATE:20231105T020000
RDATE:20241103T020000
END:STANDARD
BEGIN:DAYLIGHT
TZNAME:AKDT
DTSTART:20230312T020000
TZOFFSETFROM:-0900
TZOFFSETTO:-0800
RDATE:20240310T020000
END:DAYLIGHT
END:VTIMEZONE
BEGIN:VEVENT
UID:844e3cd4-397f-46f9-8a35-8421592ae883
DTSTAMP:20260425T215512Z
DESCRIPTION:
DTSTART;TZID=America/Anchorage:20230629T120000
DTEND;TZID=America/Anchorage:20230629T130000
LOCATION:
SUMMARY:Muisc on the Dock - Evan Porter
END:VEVENT
END:VCALENDAR
