BEGIN:VCALENDAR
VERSION:2.0
PRODID:-//www.ketchikanarts.org//NONSGML kigkonsult.se iCalcreator 2.30.10/
 /
CALSCALE:GREGORIAN
METHOD:PUBLISH
UID:99fe14d2-81a2-43df-8d36-427cf1c2dcbc
X-WR-CALDESC:
X-WR-RELCALID:2039eb840ca739cf1bf0bf1f9a042c73
X-WR-TIMEZONE:America/Anchorage
BEGIN:VTIMEZONE
TZID:America/Anchorage
BEGIN:STANDARD
TZNAME:AKST
DTSTART:20221106T020000
TZOFFSETFROM:-0800
TZOFFSETTO:-0900
RDATE:20231105T020000
RDATE:20241103T020000
END:STANDARD
BEGIN:DAYLIGHT
TZNAME:AKDT
DTSTART:20230312T020000
TZOFFSETFROM:-0900
TZOFFSETTO:-0800
RDATE:20240310T020000
END:DAYLIGHT
END:VTIMEZONE
BEGIN:VEVENT
UID:ba1d775c-8d9b-49d9-8521-564ecfca2466
DTSTAMP:20260425T220603Z
DESCRIPTION:
DTSTART;TZID=America/Anchorage:20230627T120000
DTEND;TZID=America/Anchorage:20230627T130000
LOCATION:
SUMMARY:Music on the Dock - Obvious Jazz
END:VEVENT
END:VCALENDAR
