BEGIN:VCALENDAR
VERSION:2.0
PRODID:-//www.ketchikanarts.org//NONSGML kigkonsult.se iCalcreator 2.30.10/
 /
CALSCALE:GREGORIAN
METHOD:PUBLISH
UID:50c4a2ca-ebb8-4cf4-9c92-d6af2096b0e3
X-WR-CALDESC:
X-WR-RELCALID:1ce4c3c4e856e4c427bb9f6bc9bcc7db
X-WR-TIMEZONE:America/Anchorage
BEGIN:VTIMEZONE
TZID:America/Anchorage
BEGIN:STANDARD
TZNAME:AKST
DTSTART:20221106T020000
TZOFFSETFROM:-0800
TZOFFSETTO:-0900
RDATE:20231105T020000
RDATE:20241103T020000
END:STANDARD
BEGIN:DAYLIGHT
TZNAME:AKDT
DTSTART:20230312T020000
TZOFFSETFROM:-0900
TZOFFSETTO:-0800
RDATE:20240310T020000
END:DAYLIGHT
END:VTIMEZONE
BEGIN:VEVENT
UID:3f3438d1-73a2-4ef5-99f6-9a4121642f5b
DTSTAMP:20260425T220858Z
DESCRIPTION:
DTSTART;TZID=America/Anchorage:20230622T120000
DTEND;TZID=America/Anchorage:20230622T130000
LOCATION:
SUMMARY:Music on the Dock - The Point Band with Del Vidal
END:VEVENT
END:VCALENDAR
