BEGIN:VCALENDAR
VERSION:2.0
PRODID:-//www.ketchikanarts.org//NONSGML kigkonsult.se iCalcreator 2.30.10/
 /
CALSCALE:GREGORIAN
METHOD:PUBLISH
UID:1450ff19-992f-4fa1-8736-21eaf9048560
X-WR-CALDESC:
X-WR-RELCALID:ab9b8611382678a83b62831a0a8c7476
X-WR-TIMEZONE:America/Anchorage
BEGIN:VTIMEZONE
TZID:America/Anchorage
BEGIN:STANDARD
TZNAME:AKST
DTSTART:20221106T020000
TZOFFSETFROM:-0800
TZOFFSETTO:-0900
RDATE:20231105T020000
RDATE:20241103T020000
END:STANDARD
BEGIN:DAYLIGHT
TZNAME:AKDT
DTSTART:20230312T020000
TZOFFSETFROM:-0900
TZOFFSETTO:-0800
RDATE:20240310T020000
END:DAYLIGHT
END:VTIMEZONE
BEGIN:VEVENT
UID:3e303b69-9432-465b-a039-ec2d0c3f27c8
DTSTAMP:20260425T220603Z
DESCRIPTION:
DTSTART;TZID=America/Anchorage:20230616T093000
DTEND;TZID=America/Anchorage:20230616T120000
LOCATION:
SUMMARY:BOOMbal Dance Hall WALTZ Pop-Up Class
END:VEVENT
END:VCALENDAR
