BEGIN:VCALENDAR
VERSION:2.0
PRODID:-//www.ketchikanarts.org//NONSGML kigkonsult.se iCalcreator 2.30.10/
 /
CALSCALE:GREGORIAN
METHOD:PUBLISH
UID:4a0c7ce2-963d-461b-856e-36268d9e3d9b
X-WR-CALDESC:
X-WR-RELCALID:68ba0f01b1a19e0d91dc4eaa05920624
X-WR-TIMEZONE:America/Anchorage
BEGIN:VTIMEZONE
TZID:America/Anchorage
BEGIN:STANDARD
TZNAME:AKST
DTSTART:20221106T020000
TZOFFSETFROM:-0800
TZOFFSETTO:-0900
RDATE:20231105T020000
RDATE:20241103T020000
END:STANDARD
BEGIN:DAYLIGHT
TZNAME:AKDT
DTSTART:20230312T020000
TZOFFSETFROM:-0900
TZOFFSETTO:-0800
RDATE:20240310T020000
END:DAYLIGHT
END:VTIMEZONE
BEGIN:VEVENT
UID:af785460-9d02-42d4-87b9-ff11103024fa
DTSTAMP:20260425T220840Z
DESCRIPTION:
DTSTART;TZID=America/Anchorage:20230616T000000
DTEND;TZID=America/Anchorage:20230616T235900
LOCATION:
SUMMARY:First City Players Performance
END:VEVENT
END:VCALENDAR
