BEGIN:VCALENDAR
VERSION:2.0
PRODID:-//www.ketchikanarts.org//NONSGML kigkonsult.se iCalcreator 2.30.10/
 /
CALSCALE:GREGORIAN
METHOD:PUBLISH
UID:94fed256-3b1f-482e-a165-86e43289bb8e
X-WR-CALDESC:Join your favorite host Jack Finnegan at the Creek Street Caba
 ret \n7pm Sign-ups Stories begin at 7:30pm \n$3 Cover\nCreek Street Cabare
 t
X-WR-RELCALID:b3f739720ea4615099658726e429abdf
X-WR-TIMEZONE:America/Anchorage
BEGIN:VTIMEZONE
TZID:America/Anchorage
BEGIN:STANDARD
TZNAME:AKST
DTSTART:20221106T020000
TZOFFSETFROM:-0800
TZOFFSETTO:-0900
RDATE:20231105T020000
RDATE:20241103T020000
END:STANDARD
BEGIN:DAYLIGHT
TZNAME:AKDT
DTSTART:20230312T020000
TZOFFSETFROM:-0900
TZOFFSETTO:-0800
RDATE:20240310T020000
END:DAYLIGHT
END:VTIMEZONE
BEGIN:VEVENT
UID:1d4483ea-9dee-4399-ba4a-fed920c5bca9
DTSTAMP:20260425T215604Z
DESCRIPTION:Join your favorite host Jack Finnegan at the Creek Street Cabar
 et \n7pm Sign-ups Stories begin at 7:30pm \n$3 Cover\nCreek Street Cabaret
DTSTART;TZID=America/Anchorage:20230613T190000
DTEND;TZID=America/Anchorage:20230613T210000
LOCATION:
SUMMARY:SummerSlam
END:VEVENT
END:VCALENDAR
