BEGIN:VCALENDAR
VERSION:2.0
PRODID:-//www.ketchikanarts.org//NONSGML kigkonsult.se iCalcreator 2.30.10/
 /
CALSCALE:GREGORIAN
METHOD:PUBLISH
UID:61c95af2-599c-4fa3-933f-33ec5328df8b
X-WR-CALDESC:
X-WR-RELCALID:6a11de2f017939df2c43efb4b19f0bf1
X-WR-TIMEZONE:America/Anchorage
BEGIN:VTIMEZONE
TZID:America/Anchorage
BEGIN:STANDARD
TZNAME:AKST
DTSTART:20221106T020000
TZOFFSETFROM:-0800
TZOFFSETTO:-0900
RDATE:20231105T020000
RDATE:20241103T020000
END:STANDARD
BEGIN:DAYLIGHT
TZNAME:AKDT
DTSTART:20230312T020000
TZOFFSETFROM:-0900
TZOFFSETTO:-0800
RDATE:20240310T020000
END:DAYLIGHT
END:VTIMEZONE
BEGIN:VEVENT
UID:5c0e676e-debd-471d-9b6e-4b9a1cfa2f6d
DTSTAMP:20260425T220628Z
DESCRIPTION:
DTSTART;TZID=America/Anchorage:20230601T000000
DTEND;TZID=America/Anchorage:20230601T235900
LOCATION:
SUMMARY:Last Day of School
END:VEVENT
END:VCALENDAR
